BEGIN:VCALENDAR
VERSION:2.0
PRODID:-//EdicionesDelantal - ECPv6.15.18//NONSGML v1.0//EN
CALSCALE:GREGORIAN
METHOD:PUBLISH
X-WR-CALNAME:EdicionesDelantal
X-ORIGINAL-URL:https://edicionesdelantal.es/en/
X-WR-CALDESC:Events for EdicionesDelantal
REFRESH-INTERVAL;VALUE=DURATION:PT1H
X-Robots-Tag:noindex
X-PUBLISHED-TTL:PT1H
BEGIN:VTIMEZONE
TZID:Europe/Madrid
BEGIN:DAYLIGHT
TZOFFSETFROM:+0100
TZOFFSETTO:+0200
TZNAME:CEST
DTSTART:20240331T010000
END:DAYLIGHT
BEGIN:STANDARD
TZOFFSETFROM:+0200
TZOFFSETTO:+0100
TZNAME:CET
DTSTART:20241027T010000
END:STANDARD
BEGIN:DAYLIGHT
TZOFFSETFROM:+0100
TZOFFSETTO:+0200
TZNAME:CEST
DTSTART:20250330T010000
END:DAYLIGHT
BEGIN:STANDARD
TZOFFSETFROM:+0200
TZOFFSETTO:+0100
TZNAME:CET
DTSTART:20251026T010000
END:STANDARD
BEGIN:DAYLIGHT
TZOFFSETFROM:+0100
TZOFFSETTO:+0200
TZNAME:CEST
DTSTART:20260329T010000
END:DAYLIGHT
BEGIN:STANDARD
TZOFFSETFROM:+0200
TZOFFSETTO:+0100
TZNAME:CET
DTSTART:20261025T010000
END:STANDARD
END:VTIMEZONE
BEGIN:VEVENT
DTSTART;TZID=Europe/Madrid:20251031T190000
DTEND;TZID=Europe/Madrid:20251031T210000
DTSTAMP:20260420T163743
CREATED:20260420T100606Z
LAST-MODIFIED:20260420T100744Z
UID:17537-1761937200-1761944400@edicionesdelantal.es
SUMMARY:ALICANTE: "Cantos pasados y presentes" by CoroDelantal MACA
DESCRIPTION:  \nCoroDelantal MACA presents a new show: Cantos pasados y presentes (Past and Present Chants)\, with great surprises. \nTaking the chance of ‘All Hollows In’ night\, we’ll close the show with our traditional songs and poems to our ancestors\, honoring our friands and relative that left us recently. \nWe have a plus this time\, since the theater is directed by one of our new members: actress Amparo Ausina.\nYeeeehaaaa! A hurray for CoroDelantal!
URL:https://edicionesdelantal.es/en/event/alicante-cantos-pasados-y-presentes-por-el-corodelantal-maca/
LOCATION:ALICANTE: Teatro en Red\, Calle Italia\, 33\, Alicante
CATEGORIES:Performance
ATTACH;FMTTYPE=image/jpeg:https://edicionesdelantal.es/wp-content/uploads/2026/04/2025X31-Cantos-pasados-CARTEL.jpeg
END:VEVENT
END:VCALENDAR